BEGIN:VCALENDAR
VERSION:2.0
PRODID:-//The Bold Italic San Francisco//EN
CALSCALE:GREGORIAN
METHOD:PUBLISH
BEGIN:VEVENT
DTSTAMP:20131104T162317
UID:thebolditalic-sanfrancisco-6571
DTSTART:20131119T180000
DTEND:20131119T200000
DESCRIPTION: Here at The Bold Italic we're always looking for ways to impro
 ve\; whether that means being better about keeping the office tidy or makin
 g our site and events the best they can be. We're in love with San Francisc
 o\, though admittedly\, sometimes love can be complicated. As city storytel
 lers\, our aim is to share that love with you\, by featuring a diverse chor
 us of voices. We hear from many of you in the comments section of stories\,
  but we would love to talk to you with our faces! It means so much more to 
 hear your ideas and questions in person. So we're hosting the very first Bo
 ld Italic Open Forum. Swing by\, eat some snacks\, pop an anonymous story i
 nto the story box if you're so inclined\, and most importantly\, share your
  ideas about what you like about The Bold Italic\, what infuriates you\, an
 d what we could be doing differently here. We're looking for your opinions 
 about our articles\, events\, design\, site navigation\, whatever you're in
 to offering your two cents about. And from our end\, we'll be talking with 
 our faces about the history and mission of The Bold Italic\, and answering 
 any questions you may have about the site.  Talk To Us With Your Faces is l
 imited to the first 60 guests who RSVP. The suggestions we're hoping to hea
 r are boundless\, but our space isn't\, so arrive early if you want a seat 
 at the forum.   free
LAST-MODIFIED:20140523T172102
LOCATION:32 Page St.\, San Francisco\, CA 941012
SEQUENCE:3
SUMMARY:Talk To Us With Your Faces
URL:http://www.thebolditalic.com/events/6571-talk-to-us-with-your-faces
END:VEVENT
END:VCALENDAR
