BEGIN:VCALENDAR
VERSION:2.0
PRODID:-//The Bold Italic San Francisco//EN
CALSCALE:GREGORIAN
METHOD:PUBLISH
BEGIN:VEVENT
DTSTAMP:20140521T115324
UID:thebolditalic-sanfrancisco-6987
DTSTART:20140628T210000
DTEND:20140629T040000
DESCRIPTION:The Armory has teamed up with 2 local promoters\, who are icono
 clastic in the San Francisco LGBT scene – Janine Shiota of Fresh fame and A
 udrey Joseph of Club Universe and Pleasuredome as well as promoter Brett He
 ndrichsen from New York and Los Angeles best known for his Masterbeat produ
 ctions. The production will be in the 40\,000 sq ft Drill Court with an add
 ed VIP party in the Victorian Suites on the top of the building.  This even
 t is expected to be the premiere event of the SF Pride weekend and ticket s
 ales are brisk.The Armory was built in 1914 and housed not only soldiers bu
 t cavalry horses.  Today it is best known as the home of Kink.com\, a partn
 er in the event.DJs include Allyson Calagna\, Shane Stiel and from Madrid -
  Sr Edu as well as WE Party dancers direct from Spain and local celebrities
  such as Suzan Revah and her hordes of hunky men and the most popular perfo
 rmers from Go Go Pro.  As a special treat some of the Kink stars will be pe
 rforming as well.Those attending will see some of their favorite club perso
 nnel from the days of dancing until you drop. $75—125
LAST-MODIFIED:20140521T121323
LOCATION:1800 Mission St.\nSan Francisco\, CA 94103
SEQUENCE:8
SUMMARY:San Francisco Pride at the Armory
URL:http://www.thebolditalic.com/events/6987-san-francisco-pride-at-the-arm
 ory
END:VEVENT
END:VCALENDAR
