BEGIN:VCALENDAR
VERSION:2.0
PRODID:-//The Bold Italic San Francisco//EN
CALSCALE:GREGORIAN
METHOD:PUBLISH
BEGIN:VEVENT
DTSTAMP:20140609T165129
UID:thebolditalic-sanfrancisco-7016
DTSTART:20140619T173000
DTEND:20140619T183000
DESCRIPTION:Every third Thursday this summer\, Kollar Chocolates in downtow
 n Yountville will be doing a wine and chocolate happy hour with different p
 artner wineries (because it’s the adult version of peanut butter and jelly\
 , there’s just nothing better). Each evening artisan chocolatier Chris Koll
 ar will be handing out his to-die for handcrafted chocolates while partner 
 wineries pour different vintages to match each truffle.Kollar's gorgeous ha
 ndcrafted truffles with different local wines for only $10. AND if you give
  in to your sweet tooth and purchase $25 worth of Kollar Chocolate\, the ta
 sting fee will be waived. 
LAST-MODIFIED:20140609T165616
LOCATION:6525 Washington St\, Yountville\, CA 94599
SEQUENCE:6
SUMMARY:Wine and Chocolate Happy Hour in Yountville
URL:http://www.thebolditalic.com/events/7016-wine-and-chocolate-happy-hour-
 in-yountville
END:VEVENT
END:VCALENDAR
