BEGIN:VCALENDAR
VERSION:2.0
PRODID:-//The Bold Italic San Francisco//EN
CALSCALE:GREGORIAN
METHOD:PUBLISH
BEGIN:VEVENT
DTSTAMP:20140612T155837
UID:thebolditalic-sanfrancisco-7022
DTSTART:20140621T120000
DTEND:20140621T160000
DESCRIPTION:Old Oakland is banding together to celebrate This Is Oakland: A
  Guide to the City’s Most Interesting Places with a block party on Saturday
 \, June 21. From 12pm to 4pm\, come stroll the stretch of 9th Street betwee
 n Broadway and Washington\, and snack on tacos and agua frescas from Tamari
 ndo\, beers from the Trappist\, filled doughnuts from Doughnut Dolly\, ice 
 cream from Fentons’ old-skool bike freezer\, and more. Don’t head back to t
 he BART station – mere steps away from the festivities! – without doing a l
 ittle shopping. Some of our favorite Oakland places – from Oakland Museum o
 f CA to Elder & Pine – will have a mix of cool finds for sale. free
LAST-MODIFIED:20140612T162518
LOCATION:9th Street Oakland\, CA between (Broadway & Washington)
SEQUENCE:6
SUMMARY:Old Oakland’s This Is Oakland Launch Party
URL:http://www.thebolditalic.com/events/7022-old-oakland-s-this-is-oakland-
 launch-party
END:VEVENT
END:VCALENDAR
