BEGIN:VCALENDAR
VERSION:2.0
PRODID:-//The Bold Italic San Francisco//EN
CALSCALE:GREGORIAN
METHOD:PUBLISH
BEGIN:VEVENT
DTSTAMP:20140618T160659
UID:thebolditalic-sanfrancisco-7031
DTSTART:20140628T150000
DTEND:20140628T200000
DESCRIPTION:On Saturday\, June 28th\, Fallon Hills Ranch’s Kevin Maloney\, 
 Bluestem Brasserie’s Chef Francis Hogan and Tender Greens’ Chef Sean Canava
 n will host a unique summer ranch tour and al fresco dining experience on t
 he 300-acre family-run ranch in Petaluma\, California. The afternoon will c
 ommence with a reception and passed appetizers\, followed by a ranch tour l
 ed by Kevin Maloney.  The evening will culminate in a seated four-course co
 llaborative meal set against the backdrop of the rolling hills of Petaluma.
  Tickets for the four course menu are $125 and more information can be foun
 d here. $125
LAST-MODIFIED:20140618T163241
LOCATION:\n1995 Gericke Rd\nPetaluma\, CA 94952
SEQUENCE:9
SUMMARY:Fallon Hills Ranch Dinner
URL:http://www.thebolditalic.com/events/7031-fallon-hills-ranch-dinner
END:VEVENT
END:VCALENDAR
