BEGIN:VCALENDAR
VERSION:2.0
PRODID:-//The Bold Italic San Francisco//EN
CALSCALE:GREGORIAN
METHOD:PUBLISH
BEGIN:VEVENT
DTSTAMP:20140722T160502
UID:thebolditalic-sanfrancisco-7083
DTSTART:20140802T130000
DTEND:20140802T170000
DESCRIPTION:Oakland Art Murmur & Broke-Ass Stuart invite you to Baycation\,
  a free event in celebration of summer and Oakland Art Murmur’s weekly Satu
 rday Stroll Art Walk from 1-5pm.  Hosted by Classic Cars West\, the event w
 ill take place under the sun in the gallery’s outdoor beer garden. Artists 
 John Casey\, Crystal Morey\, Max Kauffman and Jon Carling will be on-site t
 o lead a range of art activities alongside Late Night Art. Event sponsor Mi
 crosoft will be merging art and technology\, showing people how Lumia devic
 es make the process of capturing\, editing and uploading photos uniquely ar
 tistic. Food & beer will be available for purchase on-site\, provided by Co
 mmonwealth Cafe & Public House. Baycation will serve as the destination for
  afternoon gallery visitors and anyone stuck in a fog-bogged area of the Ba
 y who is interested in a day of art\, sun\, food & beer.  free
LAST-MODIFIED:20140722T163719
LOCATION:411 26th Street\, Oakland CA
SEQUENCE:5
SUMMARY:Baycation Day
URL:http://www.thebolditalic.com/events/7083-baycation-day
END:VEVENT
END:VCALENDAR
