BEGIN:VCALENDAR
VERSION:2.0
PRODID:-//The Bold Italic San Francisco//EN
CALSCALE:GREGORIAN
METHOD:PUBLISH
BEGIN:VEVENT
DTSTAMP:20140723T155626
UID:thebolditalic-sanfrancisco-7091
DTSTART:20140823T000000
DTEND:20140824T000000
DESCRIPTION:Experience a weekend of music\, food and fresh ocean air at the
  site of the iconic Monterey Pop Festival. First City Festival\, named afte
 r Monterey’s claim as the ofﬁcial “ﬁrst capital” of California\, promises a
  sophisticated musical line-up of 30+ bands in a relaxed and beautiful coas
 tal setting. The festival grounds will showcase three live music performanc
 e stages plus a Vaudeville variety stage. A full carnival\, complete with r
 ides and games\, will be available to guests. Unlimited rides are included 
 with every ticket!  Curated dining options will include local craft beers a
 s well as wine and food vendors.  Be sure to visit the Unique USA Marketpla
 ce where designers of anything from furniture\, art\, and fashion are selli
 ng their Made in the USA goods.  This year we will also feature Beat Swap M
 eet where you can search through the vinyl record collections of collectors
  and dealers to find and buy vinyl gems! View the lineup here.  $79.75-$289
 .50
LAST-MODIFIED:20140723T160108
LOCATION:2004 Fairground Rd\, Monterey\, CA 93940
SEQUENCE:6
SUMMARY:First City Festival
URL:http://www.thebolditalic.com/events/7091-first-city-festival
END:VEVENT
END:VCALENDAR
