BEGIN:VCALENDAR
VERSION:2.0
PRODID:-//The Bold Italic San Francisco//EN
CALSCALE:GREGORIAN
METHOD:PUBLISH
BEGIN:VEVENT
DTSTAMP:20140822T133734
UID:thebolditalic-sanfrancisco-7127
DTSTART:20140828T170000
DESCRIPTION:The Napa Valley Film Festival invites you to plunge into a very
  special DIVE BAR on Thursday\, August 28 at Bardessono Hotel\, and Spa in 
 Yountville. In addition to lounging poolside\, enjoying small bites from pa
 rtners Kollar Chocolates and NapaStyle and sipping specialty cocktails by L
 ucy Restaurant and Bar guests will also have a chance to catch a sneak prev
 iew of Napa Valley Film Festival’s favorite short films in advance of this 
 year’s festival. The First Showing is before Dive Bar\, 5-6pm and the secon
 d 9-10pm\, with plenty of time for schmoozing\, grazing\, and drinking on t
 he pool deck in between the viewings.Image via Thinkstock Free
LAST-MODIFIED:20140822T134209
LOCATION:6526 Yount Street\nYountville\, CA\n94599
SEQUENCE:6
SUMMARY:Dive Bar
URL:http://www.thebolditalic.com/events/7127-dive-bar
END:VEVENT
END:VCALENDAR
