BEGIN:VCALENDAR
VERSION:2.0
PRODID:-//The Bold Italic San Francisco//EN
CALSCALE:GREGORIAN
METHOD:PUBLISH
BEGIN:VEVENT
DTSTAMP:20140922T155932
UID:thebolditalic-sanfrancisco-7199
DTSTART:20140929T193000
DESCRIPTION:Hosted by The Atlantic\, The Aspen Institute\, and Bloomberg Ph
 ilanthropies\, CityLab brings together 300+ of the world’s top mayors\, urb
 an experts\, technologists\, and designers for a series of conversations ab
 out the challenges\, ideas\, and innovations that are shaping cities around
  the world.On Monday\, September 29\, CityLab comes to The Theatre at Ace H
 otel for a night of lively conversations with the people who are making an 
 impact on the culture and character of Los Angeles. Featuring prominent Ang
 elenos:·  Roy Choi\, Chef and Author\, L.A. Son  ·  Meg Gill\, Co-Founder\,
  Golden Road Brewing·  Betting Korek\, Founder\, ForYourArt·  Paige Adams-G
 eller\, Founder and Creative Director\, Paige Denim·  Eric Garcetti. Mayor\
 , City of Los Angeles·  Gavin “Mizzle” McNeill\, Creative Director and Owne
 r\, YOUth Store & Gallery·  Evan Shapiro\, President\, Pivot·  Rick J. Caru
 so\, Founder and CEO\, Caruso Affiliated·  Michael Govan\, Executive Direct
 or\, Los Angeles County Museum of Art (LACMA)With Moderators:Richard Florid
 a\, Senior Editor\, The AtlanticRonald Brownstein\, Senior Editorial Direct
 or\, Atlantic Media Steve Clemons\, Washington Editor-at-Large\, The Atlant
 icLinda Immediato\, Shop\, Los Angeles Magazine Mary Melton\, Editor-in-Chi
 ef\, Los Angeles MagazineDoors at 6:00. $50+
LAST-MODIFIED:20140922T162436
LOCATION:929 S Broadway\, Los Angeles\, CA 90015
SEQUENCE:11
SUMMARY:CityLab: Making L.A.
URL:http://www.thebolditalic.com/events/7199-citylab-making-la
END:VEVENT
END:VCALENDAR
