BEGIN:VCALENDAR
VERSION:2.0
PRODID:-//The Bold Italic San Francisco//EN
CALSCALE:GREGORIAN
METHOD:PUBLISH
BEGIN:VEVENT
DTSTAMP:20141008T150241
UID:thebolditalic-sanfrancisco-7230
DTSTART:20141013T200000
DESCRIPTION:"Wheel of Karaoke" is a fun and engaging karaoke game show judg
 ed and MC'd by local up-and-coming performers of comedy and music. Audience
  members receive a raffle ticket for the chance to compete\, a la "The Pric
 e is Right"\, and then spin the wheel of fate for an added challenge to be 
 completed during the song such as singing while blindfolded or singing to a
  slower tempo. After the performance\, they're judged by the panelists on a
 ccuracy and creativity. Finally\, the two top-scoring singers go head-to-he
 ad in a final round where they choose their song and can make use of costum
 es\, audience members\, dancing and any other gimmicks to create their best
  one-song act and receive the first place prize. Guest comedians\, musician
 s\, and vaudeville acts cameo throughout the night to make this a spectacle
  to behold - far above and beyond your granny's karaoke!The show is free\, 
 but donations are accepted!Our upcoming October 13th show features the foll
 owing:Panelists:Matt CurryNicole CalasichJason DoveMusical Guest:Nervous En
 ergyYOU singing karaoke! Free!
LAST-MODIFIED:20141008T151652
LOCATION:3225 22nd st\, san francisco
SEQUENCE:6
SUMMARY:Wheel of Karaoke: A Comedy Music Show
URL:http://www.thebolditalic.com/events/7230-wheel-of-karaoke-a-comedy-musi
 c-show
END:VEVENT
END:VCALENDAR
