BEGIN:VCALENDAR
VERSION:2.0
PRODID:-//The Bold Italic San Francisco//EN
CALSCALE:GREGORIAN
METHOD:PUBLISH
BEGIN:VEVENT
DTSTAMP:20141022T143409
UID:thebolditalic-sanfrancisco-7261
DTSTART:20141031T200000
DESCRIPTION:BOOGRASS is a Halloween party like no other- featuring hillbill
 y zombies and haunting sounds of yesteryear\, well old-time bluegrass anywa
 y. We'd love to say it's killer bluegrass\, but's that's way too easy. This
  year' s Boograss is our biggest and scariest yet! Featuring 3 killer bands
  (ok\, I had to do it) Supermule\, Henhouse Prowlers\, Immigrant Union\, an
 d a Costume Contest\, Photo Booth\, and plenty of Tricks & Treats!Oct 31BOO
 GRASS: Hillbilly HalloweenFeaturing: Supermule + Henhouse Prowlers + Immigr
 ant Union@Slim's\, 333 11th Street\, San Francisco8pm doors / 9pm show / $1
 5 / all ages $15+
LAST-MODIFIED:20141022T143901
LOCATION:333 11th Street\, San Francisco
SEQUENCE:5
SUMMARY:Boograss: Halloween
URL:http://www.thebolditalic.com/events/7261-boograss-halloween
END:VEVENT
END:VCALENDAR
