BEGIN:VCALENDAR
VERSION:2.0
PRODID:-//The Bold Italic San Francisco//EN
CALSCALE:GREGORIAN
METHOD:PUBLISH
BEGIN:VEVENT
DTSTAMP:20141023T134331
UID:thebolditalic-sanfrancisco-7265
DTSTART:20141031T220000
DTEND:20141101T040000
DESCRIPTION:DJ Dials\, Noise Pop\, & 1015 Folsom present the 5th annualMAD 
 HATTERS BALLfeaturingALUNAGEORGE liveBOB MOSES liveTHE RANGE livewithAMBASS
 ADEURSATISHTHE WHOOLIGAN (Soulection)TRILL TEAM 6 / SICK SAD WORLDMATT HUBE
 RTBOGL vs DIALSSTEPHAN JACOBSJUSTIN MILLA // BELI3VER // DJ BALANCECHAD SAL
 TY // DRIPMOB // EITCHKIMMY LE FUNK // KILO G // MIKE TEEZFRIDAY OCTOBER 31
 ST / 10P-4A / 21+COSTUMES PREFERREDTickets: https://madhattersball2014-out.
 eventbrite.com/ALUNAGEORGEalunageorge.comAlunaGeorge are Aluna Francis and 
 George Reid. Aluna writes and sings the melodies and lyrics. George arrange
 s the music into uncanny and seductive new shapes. They met in 2009. They l
 ive in London. They have released two fresh\, irresistible singles\, You Kn
 ow You Like It and Your Drums\, Your Love\, and they have only just begun.A
 lunaGeorge were among the final three contenders for the Brits Critics’ Cho
 ice Award and on the longlist for the BBC’s influential Sound of 2013 poll.
  Pitchfork\, which has championed them from the start\, booked them to play
  at its Paris festival in November. In the fashion world\, Moschino asked t
 he duo to perform at their London Fashion Week show and Next Models has sig
 ned Aluna — confirmation of her idiosyncratic star quality.AlunaGeorge’s so
 ngs hinge on the chemistry between Aluna’s cool\, commanding\, distinctly B
 ritish vocals and George’s disorientating brew of warped samples\, twitchin
 g beats and thick\, woozy bass. Take their calling-card\, You Know You Like
  It. Aluna improvised the singsong chorus at a bus stop in Harlesden and sa
 ng it down the phone line to George. The verse was a song she wrote at coll
 ege a few years ago “about being defiant”. “I’m no fool\,” she sings. “No\,
  I’m not a follower.” George set it to a slippery\, unpredictable rhythm an
 d swathed it in a dreamlike haze. The contrast’s the thing.BOB MOSES“Howie 
 and Vallance are worthy of attention for how they fuse house with genuine s
 inging and songwriting talent\, as well as a live aesthetic that comes thro
 ugh clear and cohesively” - Ibiza Voice“Hankering for some moody\, post-clu
 b music that doesn't totally expunge the fire within? Bob Moses might just 
 be your men.” - Resident Advisor“Vancouver deep house duo Bob Moses are giv
 ing us all a glimpse into the future” - DJ Mag CanadaCanadian grown (legall
 y)\, New York formed duo Jimmy Vallance and Tom Howie are one of the latest
  acts to release on the boutique label Scissor and Thread. Although only co
 rdially discussing music and life in the same high school art class in Vanc
 ouver BC\, it wasn't until several years later that they bumped into each o
 ther at a Lowe's parking lot and teamed up to make the act now known as Bob
  Moses. $30
LAST-MODIFIED:20141027T211733
LOCATION:1015 Folsom St\, San Francisco\, CA 94103
SEQUENCE:7
SUMMARY:Mad Hatter's Ball Ft. Alunageorge + Bob Moses
URL:http://www.thebolditalic.com/events/7265-mad-hatters-ball-ft-alunageorg
 e-and-bob-moses
END:VEVENT
END:VCALENDAR
