BEGIN:VCALENDAR
VERSION:2.0
PRODID:-//The Bold Italic San Francisco//EN
CALSCALE:GREGORIAN
METHOD:PUBLISH
BEGIN:VEVENT
DTSTAMP:20150102T145214
UID:thebolditalic-sanfrancisco-7376
DTSTART:20150112T203000
DESCRIPTION:"Wheel of Karaoke" is a fun and engaging karaoke game show judg
 ed and MC'd by local up-and-coming performers of comedy and music. Audience
  members receive a raffle ticket for the chance to compete\, a la "The Pric
 e is Right"\, and then spin the wheel of fate for an added challenge to be 
 completed during the song such as singing while blindfolded or singing to a
  slower tempo. After the performance\, they're judged by the panelists on a
 ccuracy and creativity. Finally\, the two top-scoring singers go head-to-he
 ad in a final round where they choose their song and can make use of costum
 es\, audience members\, dancing and any other gimmicks to create their best
  one-song act and receive the first place prize. Guest comedians\, musician
 s\, and vaudeville acts cameo throughout the night to make this a spectacle
  to behold - far above and beyond your granny's karaoke!The show is free\, 
 but donations are accepted!Our upcoming January 12th show features the foll
 owing:Panelists:Natasha MuseKristee OnoRajeev DharMusical Performance:Raum 
 DeeYOU singing karaoke!DJ'd by Amanda Rocks  Free
LAST-MODIFIED:20150102T145324
LOCATION:3225 22nd st\, San Francisco
SEQUENCE:5
SUMMARY:Wheel Of Karaoke
URL:http://www.thebolditalic.com/events/7376-wheel-of-karaoke
END:VEVENT
END:VCALENDAR
